{ "currentVersion": 11.1, "cimVersion": "3.1.0", "serviceDescription": "
Level 2 Quality <\/span>colour orthophotography of the area affected by the <\/span>May/June 2021 Canterbury flooding<\/span>. <\/span><\/p> <\/p> This is level 2 quality meaning its horizontal accuracy has only been quality assured to a basic level, and it may contain some artifacts within the imagery. <\/span><\/p> <\/p> Flown on <\/span>2nd & 3rd June<\/span> 20<\/span>21<\/span> by <\/span>LandPro<\/span>. Provided under Creative Commons Attribution <\/span>4<\/span>.0 New Zealand license http<\/span>s<\/span>://creativecommons.org/licenses/by/<\/span>4<\/span>.0/nz/<\/span><\/p><\/div>",
"mapName": "FloodImagery_May2021",
"description": " Level 2 Quality <\/SPAN>colour orthophotography of the area affected by the <\/SPAN>May/June 2021 Canterbury flooding<\/SPAN>. <\/SPAN><\/P> <\/P> This is level 2 quality meaning its horizontal accuracy has only been quality assured to a basic level, and it may contain some artifacts within the imagery. <\/SPAN><\/P> <\/P> Flown on <\/SPAN>2nd & 3rd June<\/SPAN> 20<\/SPAN>21<\/SPAN> by <\/SPAN>LandPro<\/SPAN>. Provided under Creative Commons Attribution <\/SPAN>4<\/SPAN>.0 New Zealand license http<\/SPAN>s<\/SPAN>://creativecommons.org/licenses/by/<\/SPAN>4<\/SPAN>.0/nz/<\/SPAN><\/P><\/DIV>",
"copyrightText": "Environment Canterbury Regional Council",
"supportsDynamicLayers": false,
"layers": [
{
"id": 0,
"name": "Footprints",
"parentLayerId": -1,
"defaultVisibility": true,
"subLayerIds": null,
"minScale": 0,
"maxScale": 0,
"type": "Feature Layer",
"geometryType": "esriGeometryPolygon",
"supportsDynamicLegends": true
}
],
"tables": [],
"spatialReference": {
"wkid": 2193,
"latestWkid": 2193,
"xyTolerance": 0.001,
"zTolerance": 0.001,
"mTolerance": 0.001,
"falseX": -4020900,
"falseY": 1900,
"xyUnits": 10000,
"falseZ": -100000,
"zUnits": 10000,
"falseM": -100000,
"mUnits": 10000
},
"singleFusedMapCache": true,
"tileInfo": {
"rows": 256,
"cols": 256,
"dpi": 96,
"format": "MIXED",
"compressionQuality": 75,
"origin": {
"x": -4020900,
"y": 19998100
},
"spatialReference": {
"wkid": 2193,
"latestWkid": 2193,
"xyTolerance": 0.001,
"zTolerance": 0.001,
"mTolerance": 0.001,
"falseX": -4020900,
"falseY": 1900,
"xyUnits": 10000,
"falseZ": -100000,
"zUnits": 10000,
"falseM": -100000,
"mUnits": 10000
},
"lods": [
{
"level": 0,
"resolution": 156543.03392800014,
"scale": 5.91657527591555E8
},
{
"level": 1,
"resolution": 78271.51696399994,
"scale": 2.95828763795777E8
},
{
"level": 2,
"resolution": 39135.75848200009,
"scale": 1.47914381897889E8
},
{
"level": 3,
"resolution": 19567.87924099992,
"scale": 7.3957190948944E7
},
{
"level": 4,
"resolution": 9783.93962049996,
"scale": 3.6978595474472E7
},
{
"level": 5,
"resolution": 4891.96981024998,
"scale": 1.8489297737236E7
},
{
"level": 6,
"resolution": 2445.98490512499,
"scale": 9244648.868618
},
{
"level": 7,
"resolution": 1222.992452562495,
"scale": 4622324.434309
},
{
"level": 8,
"resolution": 611.4962262813797,
"scale": 2311162.217155
},
{
"level": 9,
"resolution": 305.74811314055756,
"scale": 1155581.108577
},
{
"level": 10,
"resolution": 152.87405657041106,
"scale": 577790.554289
},
{
"level": 11,
"resolution": 76.43702828507324,
"scale": 288895.277144
},
{
"level": 12,
"resolution": 38.21851414253662,
"scale": 144447.638572
},
{
"level": 13,
"resolution": 19.10925707126831,
"scale": 72223.819286
},
{
"level": 14,
"resolution": 9.554628535634155,
"scale": 36111.909643
},
{
"level": 15,
"resolution": 4.77731426794937,
"scale": 18055.954822
},
{
"level": 16,
"resolution": 2.388657133974685,
"scale": 9027.977411
},
{
"level": 17,
"resolution": 1.1943285668550503,
"scale": 4513.988705
},
{
"level": 18,
"resolution": 0.5971642835598172,
"scale": 2256.994353
},
{
"level": 19,
"resolution": 0.29858214164761665,
"scale": 1128.497176
},
{
"level": 20,
"resolution": 0.14929107082380833,
"scale": 564.248588
},
{
"level": 21,
"resolution": 0.07464553541190416,
"scale": 282.124294
},
{
"level": 22,
"resolution": 0.03732276770595208,
"scale": 141.062147
},
{
"level": 23,
"resolution": 0.01866138385297604,
"scale": 70.5310735
}
]
},
"storageInfo": {
"storageFormat": "esriMapCacheStorageModeCompactV2",
"packetSize": 128
},
"initialExtent": {
"xmin": 1384819.739523682,
"ymin": 5029320.478780172,
"xmax": 1650631.3701758424,
"ymax": 5251917.335123853,
"spatialReference": {
"wkid": 2193,
"latestWkid": 2193,
"xyTolerance": 0.001,
"zTolerance": 0.001,
"mTolerance": 0.001,
"falseX": -4020900,
"falseY": 1900,
"xyUnits": 10000,
"falseZ": -100000,
"zUnits": 10000,
"falseM": -100000,
"mUnits": 10000
}
},
"fullExtent": {
"xmin": 1447913.7496999996,
"ymin": 5097851.9079,
"xmax": 1563783.0601000004,
"ymax": 5221823.662,
"spatialReference": {
"wkid": 2193,
"latestWkid": 2193,
"xyTolerance": 0.001,
"zTolerance": 0.001,
"mTolerance": 0.001,
"falseX": -4020900,
"falseY": 1900,
"xyUnits": 10000,
"falseZ": -100000,
"zUnits": 10000,
"falseM": -100000,
"mUnits": 10000
}
},
"datesInUnknownTimezone": false,
"minScale": 5.91657527591555E8,
"maxScale": 70.5310735,
"units": "esriMeters",
"supportedImageFormatTypes": "PNG32,PNG24,PNG,JPG,DIB,TIFF,EMF,PS,PDF,GIF,SVG,SVGZ,BMP",
"documentInfo": {
"Title": "Aerial Imagery of May/June 2021 Flood Affected Areas",
"Author": "",
"Comments": " Level 2 Quality <\/SPAN>colour orthophotography of the area affected by the <\/SPAN>May/June 2021 Canterbury flooding<\/SPAN>. <\/SPAN><\/P> <\/P> This is level 2 quality meaning its horizontal accuracy has only been quality assured to a basic level, and it may contain some artifacts within the imagery. <\/SPAN><\/P> <\/P> Flown on <\/SPAN>2nd & 3rd June<\/SPAN> 20<\/SPAN>21<\/SPAN> by <\/SPAN>LandPro<\/SPAN>. Provided under Creative Commons Attribution <\/SPAN>4<\/SPAN>.0 New Zealand license http<\/SPAN>s<\/SPAN>://creativecommons.org/licenses/by/<\/SPAN>4<\/SPAN>.0/nz/<\/SPAN><\/P><\/DIV>",
"Subject": "Aerial Imagery of May/June 2021 Flood Affected Areas. This is level 2 quality meaning its horizontal accuracy has only been quality assured to a basic level, and it may contain some artifacts within the imagery.",
"Category": "",
"Version": "2.7.0",
"AntialiasingMode": "Fast",
"TextAntialiasingMode": "Force",
"Keywords": "Level 2 QualityAerial PhotographyCanterbury May Flood"
},
"capabilities": "Map,Query,Data",
"supportedQueryFormats": "JSON, geoJSON, PBF",
"exportTilesAllowed": true,
"maxExportTilesCount": 100000,
"referenceScale": 0.0,
"supportsDatumTransformation": true,
"archivingInfo": {"supportsHistoricMoment": false},
"supportsClipping": true,
"supportsSpatialFilter": true,
"supportsTimeRelation": true,
"supportsQueryDataElements": true,
"mapUnits": {"uwkid": 9001},
"maxRecordCount": 2000,
"maxImageHeight": 4096,
"maxImageWidth": 4096,
"supportedExtensions": ""
}