View In:
ArcGIS JavaScript
ArcGIS Online Map Viewer
ArcGIS Earth
ArcGIS Pro
Service Description: Aerial imagery of the greater Canterbury area taken between 1945 and 1949. These images have been manually georeferenced and have a yet to be determined spatial accuracy. This imagery is not suitable for taking distance measurements from. NZAM surveys are copyrighted and the LINZ surveys a available under creative commons https://creativecommons.org/licenses/by/3.0/nz/
Map Name: Canterbury Imagery 1945 to 1949
Legend
All Layers and Tables
Layers:
Description: Aerial imagery of the greater Canterbury area taken between 1945 and 1949. These images have been manually georeferenced and have a yet to be determined spatial accuracy. This imagery is not suitable for taking distance measurements from. NZAM Copyrighted.
Copyright Text: New Zealand Aerial Mapping, Environment Canterbury, Land Information New Zealand
Spatial Reference:
2193
(2193)
LatestVCSWkid(0)
Single Fused Map Cache: true
Tile Info:
- Height: 256
- Width: 256
- DPI: 96
-
Levels of Detail: 24
-
Level ID: 0
[ Start Tile, End Tile ]
- Resolution: 156543.03392800014
- Scale: 5.91657527591555E8
-
Level ID: 1
[ Start Tile, End Tile ]
- Resolution: 78271.51696399994
- Scale: 2.95828763795777E8
-
Level ID: 2
[ Start Tile, End Tile ]
- Resolution: 39135.75848200009
- Scale: 1.47914381897889E8
-
Level ID: 3
[ Start Tile, End Tile ]
- Resolution: 19567.87924099992
- Scale: 7.3957190948944E7
-
Level ID: 4
[ Start Tile, End Tile ]
- Resolution: 9783.93962049996
- Scale: 3.6978595474472E7
-
Level ID: 5
[ Start Tile, End Tile ]
- Resolution: 4891.96981024998
- Scale: 1.8489297737236E7
- Format: MIXED
- Compression Quality: 75.0
- Origin: X: -4020900.0
Y: 1.99981E7
- Spatial Reference: 2193
(2193)
LatestVCSWkid(0)
Storage Info:
- Storage Format: esriMapCacheStorageModeCompactV2
- Packet Size: 128
Initial Extent:
XMin: 1370286.5176514217
YMin: 4979901.605926744
XMax: 1689621.9867043023
YMax: 5374148.854186014
Spatial Reference: 2193
(2193)
LatestVCSWkid(0)
Full Extent:
XMin: 1216001.1883988392
YMin: 4917147.100949047
XMax: 1795969.0150011608
YMax: 5393398.053450953
Spatial Reference: 2193
(2193)
LatestVCSWkid(0)
Units: esriMeters
Supported Image Format Types: PNG32,PNG24,PNG,JPG,DIB,TIFF,EMF,PS,PDF,GIF,SVG,SVGZ,BMP
Document Info:
Title: Canterbury Imagery 1945 to 1949
Author:
Comments: Aerial imagery of the greater Canterbury area taken between 1945 and 1949. These images have been manually georeferenced and have a yet to be determined spatial accuracy. This imagery is not suitable for taking distance measurements from. NZAM Copyrighted.
Subject: Aerial imagery of the greater Canterbury area taken between 1945 and 1949.
Category:
Keywords: NZAM,LINZ,ECAN,New Zealand Aerial Mapping,Land Information New Zealand,Environment Canterbury,Aerial,Imagery,1945,1946,1947,1948,1949,Historic
AntialiasingMode: None
TextAntialiasingMode: Force
Supports Dynamic Layers: false
MaxRecordCount: 1000
MaxImageHeight: 4096
MaxImageWidth: 4096
Supported Query Formats: JSON, geoJSON, PBF
Supports Query Data Elements: true
Min Scale: 5.91657527591555E8
Max Scale: 70.5310735
Supports Datum Transformation: true
Child Resources:
Info
Supported Operations:
Export Map
Identify
QueryLegends
QueryDomains
Find
Return Updates
Generate KML