View In:
ArcGIS JavaScript
ArcGIS Online Map Viewer
ArcGIS Earth
ArcGIS Pro
Service Description: Aerial imagery of the greater Canterbury area taken between 2000 and 2004. These images have been manually georeferenced and have a yet to be determined spatial accuracy. This imagery is not suitable for taking distance measurements from. Provided under Creative Commons Attribution 3.0 New Zealand license http://creativecommons.org/licenses/by/3.0/nz/
Map Name: Canterbury Imagery 2000 to 2004
Legend
All Layers and Tables
Layers:
Description: Aerial imagery of the greater Canterbury area taken between 2000 and 2004. These images have been manually georeferenced and have a yet to be determined spatial accuracy. This imagery is not suitable for taking distance measurements from. Provided under Creative Commons Attribution 3.0 New Zealand license http://creativecommons.org/licenses/by/3.0/nz/
Copyright Text: Land Information New Zealand, Environment Canterbury
Spatial Reference:
2193
(2193)
LatestVCSWkid(0)
Single Fused Map Cache: true
Tile Info:
- Height: 256
- Width: 256
- DPI: 96
-
Levels of Detail: 24
-
Level ID: 0
[ Start Tile, End Tile ]
- Resolution: 156543.03392800014
- Scale: 5.91657527591555E8
-
Level ID: 1
[ Start Tile, End Tile ]
- Resolution: 78271.51696399994
- Scale: 2.95828763795777E8
-
Level ID: 2
[ Start Tile, End Tile ]
- Resolution: 39135.75848200009
- Scale: 1.47914381897889E8
-
Level ID: 3
[ Start Tile, End Tile ]
- Resolution: 19567.87924099992
- Scale: 7.3957190948944E7
-
Level ID: 4
[ Start Tile, End Tile ]
- Resolution: 9783.93962049996
- Scale: 3.6978595474472E7
-
Level ID: 5
[ Start Tile, End Tile ]
- Resolution: 4891.96981024998
- Scale: 1.8489297737236E7
- Format: MIXED
- Compression Quality: 75.0
- Origin: X: -4020900.0
Y: 1.99981E7
- Spatial Reference: 2193
(2193)
LatestVCSWkid(0)
Storage Info:
- Storage Format: esriMapCacheStorageModeCompactV2
- Packet Size: 128
Initial Extent:
XMin: 1380323.1991584133
YMin: 4926006.806642102
XMax: 1769357.7552058925
YMax: 5406303.604408989
Spatial Reference: 2193
(2193)
LatestVCSWkid(0)
Full Extent:
XMin: 1159003.9376172598
YMin: 4939888.302079496
XMax: 1921005.4616203078
YMax: 5401851.726006343
Spatial Reference: 2193
(2193)
LatestVCSWkid(0)
Units: esriMeters
Supported Image Format Types: PNG32,PNG24,PNG,JPG,DIB,TIFF,EMF,PS,PDF,GIF,SVG,SVGZ,BMP
Document Info:
Title: Canterbury Imagery 2000 to 2004
Author:
Comments: Aerial imagery of the greater Canterbury area taken between 2000 and 2004. These images have been manually georeferenced and have a yet to be determined spatial accuracy. This imagery is not suitable for taking distance measurements from. Provided under Creative Commons Attribution 3.0 New Zealand license http://creativecommons.org/licenses/by/3.0/nz/
Subject: Aerial imagery of the greater Canterbury area taken between 2000 and 2004.
Category:
Keywords: LINZ,ECAN,Environment Canterbury,Land Information New Zealand,Aerial,Imagery,2000,2001,2002,2003,2004,Historic
AntialiasingMode: None
TextAntialiasingMode: Force
Supports Dynamic Layers: false
MaxRecordCount: 1000
MaxImageHeight: 4096
MaxImageWidth: 4096
Supported Query Formats: JSON, geoJSON, PBF
Supports Query Data Elements: true
Min Scale: 5.91657527591555E8
Max Scale: 70.5310735
Supports Datum Transformation: true
Child Resources:
Info
Supported Operations:
Export Map
Identify
QueryLegends
QueryDomains
Find
Return Updates
Generate KML