View In:
ArcGIS JavaScript
ArcGIS Online Map Viewer
ArcGIS Earth
ArcGIS Pro
Service Description: Aerial imagery of the greater Canterbury area taken between 2015 and 2019. These images have been manually georeferenced and have a yet to be determined spatial accuracy. This imagery is not suitable for taking distance measurements from. Provided under Creative Commons Attribution 4.0 New Zealand license http://creativecommons.org/licenses/by/4.0/nz/
Map Name: Canterbury Imagery 2015 to 2019
Legend
All Layers and Tables
Layers:
Description: Aerial imagery of the greater Canterbury area taken between 2015 and 2019. Provided under Creative Commons Attribution 4.0 New Zealand license http://creativecommons.org/licenses/by/4.0/nz/
Copyright Text: Environment Canterbury
Spatial Reference:
2193
(2193)
LatestVCSWkid(0)
Single Fused Map Cache: true
Tile Info:
- Height: 256
- Width: 256
- DPI: 96
-
Levels of Detail: 24
-
Level ID: 0
[ Start Tile, End Tile ]
- Resolution: 156543.03392800014
- Scale: 5.91657527591555E8
-
Level ID: 1
[ Start Tile, End Tile ]
- Resolution: 78271.51696399994
- Scale: 2.95828763795777E8
-
Level ID: 2
[ Start Tile, End Tile ]
- Resolution: 39135.75848200009
- Scale: 1.47914381897889E8
-
Level ID: 3
[ Start Tile, End Tile ]
- Resolution: 19567.87924099992
- Scale: 7.3957190948944E7
-
Level ID: 4
[ Start Tile, End Tile ]
- Resolution: 9783.93962049996
- Scale: 3.6978595474472E7
-
Level ID: 5
[ Start Tile, End Tile ]
- Resolution: 4891.96981024998
- Scale: 1.8489297737236E7
- Format: MIXED
- Compression Quality: 75.0
- Origin: X: -4020900.0
Y: 1.99981E7
- Spatial Reference: 2193
(2193)
LatestVCSWkid(0)
Storage Info:
- Storage Format: esriMapCacheStorageModeCompactV2
- Packet Size: 128
Initial Extent:
XMin: 1248145.1554684525
YMin: 4892923.634514435
XMax: 1729806.2195315475
YMax: 5487575.865485565
Spatial Reference: 2193
(2193)
LatestVCSWkid(0)
Full Extent:
XMin: 1118558.2799985183
YMin: 4952124.273749048
XMax: 1859393.0950014817
YMax: 5428375.226250952
Spatial Reference: 2193
(2193)
LatestVCSWkid(0)
Units: esriMeters
Supported Image Format Types: PNG32,PNG24,PNG,JPG,DIB,TIFF,EMF,PS,PDF,GIF,SVG,SVGZ,BMP
Document Info:
Title: Canterbury Imagery 2015 to 2019
Author:
Comments: Aerial imagery of the greater Canterbury area taken between 2015 and 2019. Provided under Creative Commons Attribution 4.0 New Zealand license http://creativecommons.org/licenses/by/4.0/nz/
Subject: Aerial imagery of the greater Canterbury area taken between 1980 and 1984.
Category:
Keywords: LINZ,ECAN,MPI,Environment Canterbury,Land Information New Zealand,Ministry for Primary Industries,Aerial,Imagery,2015,2016,2017,2018,2019,Historic
AntialiasingMode: None
TextAntialiasingMode: Force
Supports Dynamic Layers: false
MaxRecordCount: 1000
MaxImageHeight: 4096
MaxImageWidth: 4096
Supported Query Formats: JSON, geoJSON, PBF
Supports Query Data Elements: true
Min Scale: 5.91657527591555E8
Max Scale: 70.5310735
Supports Datum Transformation: true
Child Resources:
Info
Supported Operations:
Export Map
Identify
QueryLegends
QueryDomains
Find
Return Updates
Generate KML