View In:
ArcGIS JavaScript
ArcGIS Online Map Viewer
ArcGIS Earth
ArcGIS Pro
Service Description: 10cm colour orthophotography of the area affected by the 22 February 2011 Christchurch earthquake.
Flown on 24 February 2011 by NZ Aerial Mapping for the Christchurch Response Centre (CRC).
Provided under Creative Commons Attribution 3.0 New Zealand license http://creativecommons.org/licenses/by/3.0/nz/
Map Name: Christchurch Imagery 2011
Legend
All Layers and Tables
Layers:
Description: 10cm colour orthophotography of the area affected by the 22 February 2011 Christchurch earthquake.
Flown on 24 February 2011 by NZ Aerial Mapping for the Christchurch Response Centre (CRC).
Provided under Creative Commons Attribution 3.0 New Zealand license http://creativecommons.org/licenses/by/3.0/nz/
Copyright Text: Land Information New Zealand
Spatial Reference:
2193
(2193)
LatestVCSWkid(0)
Single Fused Map Cache: true
Tile Info:
- Height: 256.0
- Width: 256.0
- DPI: 96.0
-
Levels of Detail: 24
-
Level ID: 0
[ Start Tile, End Tile ]
- Resolution: 156543.03392800014
- Scale: 5.91657527591555E8
-
Level ID: 1
[ Start Tile, End Tile ]
- Resolution: 78271.51696399994
- Scale: 2.95828763795777E8
-
Level ID: 2
[ Start Tile, End Tile ]
- Resolution: 39135.75848200009
- Scale: 1.47914381897889E8
-
Level ID: 3
[ Start Tile, End Tile ]
- Resolution: 19567.87924099992
- Scale: 7.3957190948944E7
-
Level ID: 4
[ Start Tile, End Tile ]
- Resolution: 9783.93962049996
- Scale: 3.6978595474472E7
-
Level ID: 5
[ Start Tile, End Tile ]
- Resolution: 4891.96981024998
- Scale: 1.8489297737236E7
- Format: MIXED
- Compression Quality: 75.0
- Origin: X: -4020900.0
Y: 1.99981E7
- Spatial Reference: 2193
(2193)
LatestVCSWkid(0)
Storage Info:
- Storage Format: esriMapCacheStorageModeCompactV2
- Packet Size: 128
Initial Extent:
XMin: 1480943.4323717933
YMin: 5080849.4572368115
XMax: 1677468.3743335018
YMax: 5238411.523857949
Spatial Reference: 2193
(2193)
LatestVCSWkid(0)
Full Extent:
XMin: 1383722.7247057701
YMin: 5112646.507356075
XMax: 1761283.8964947802
YMax: 5264782.2282941835
Spatial Reference: 2193
(2193)
LatestVCSWkid(0)
Units: esriMeters
Supported Image Format Types: PNG32,PNG24,PNG,JPG,DIB,TIFF,EMF,PS,PDF,GIF,SVG,SVGZ,BMP
Document Info:
Title: Christchurch Imagery 2011
Author:
Comments: 10cm colour orthophotography of the area affected by the 22 February 2011 Christchurch earthquake.
Flown on 24 February 2011 by NZ Aerial Mapping for the Christchurch Response Centre (CRC).
Provided under Creative Commons Attribution 3.0 New Zealand license http://creativecommons.org/licenses/by/3.0/nz/
Subject: 10cm colour orthophotography of the area affected by the 22 February 2011 Christchurch earthquake.
Category:
Keywords: Aerial imagery
AntialiasingMode: None
TextAntialiasingMode: Force
Supports Dynamic Layers: false
MaxRecordCount: 1000
MaxImageHeight: 4096
MaxImageWidth: 4096
Supported Query Formats: JSON, geoJSON, PBF
Supports Query Data Elements: true
Min Scale: 5.91657527591555E8
Max Scale: 70.5310735
Supports Datum Transformation: true
Child Resources:
Info
Supported Operations:
Export Map
Identify
QueryLegends
QueryDomains
Find
Return Updates