View In:
ArcGIS JavaScript
ArcGIS Online Map Viewer
ArcGIS Earth
ArcGIS Pro
Service Description: Digital ortho images over the project area between Southern Christchurch City and Karaki produced in response to the earthquake in Canterbury. It covers approximately 110 sq km of area. These orthophotos were produced from photography collected under low light conditions and cloud. The quality of the orthophotos are therefore not to the standard that you typically expect orthophotos to be. They do, however, provide a record of the area shortly after the 13 June 2011 Christchurch earthquake.
Commissioned by The Earthquake Commission
Provided under Creative Commons Attribution 3.0 New Zealand license http://creativecommons.org/licenses/by/3.0/nz/
Map Name: Layers
Legend
All Layers and Tables
Dynamic Legend
Dynamic All Layers
Layers:
Description: 10cm colour orthophotography of the area affected by the 22 February 2011 Christchurch earthquake.
Flown on 24 February 2011 by NZ Aerial Mapping for the Christchurch Response Centre (CRC).
Provided under Creative Commons Attribution 3.0 New Zealand license http://creativecommons.org/licenses/by/3.0/nz/
Copyright Text: Earthquake Commission (EQC)
Spatial Reference:
2193
(2193)
LatestVCSWkid(0)
Single Fused Map Cache: true
Tile Info:
- Height: 256
- Width: 256
- DPI: 96
-
Levels of Detail: 24
-
Level ID: 0
[ Start Tile, End Tile ]
- Resolution: 156543.03392800014
- Scale: 5.91657527591555E8
-
Level ID: 1
[ Start Tile, End Tile ]
- Resolution: 78271.51696399994
- Scale: 2.95828763795777E8
-
Level ID: 2
[ Start Tile, End Tile ]
- Resolution: 39135.75848200009
- Scale: 1.47914381897889E8
-
Level ID: 3
[ Start Tile, End Tile ]
- Resolution: 19567.87924099992
- Scale: 7.3957190948944E7
-
Level ID: 4
[ Start Tile, End Tile ]
- Resolution: 9783.93962049996
- Scale: 3.6978595474472E7
-
Level ID: 5
[ Start Tile, End Tile ]
- Resolution: 4891.96981024998
- Scale: 1.8489297737236E7
- Format: MIXED
- Compression Quality: 75.0
- Origin: X: -4020900.0
Y: 1.99981E7
- Spatial Reference: 2193
(2193)
LatestVCSWkid(0)
Storage Info:
- Storage Format: esriMapCacheStorageModeCompactV2
- Packet Size: 128
Initial Extent:
XMin: 1543773.6838796663
YMin: 5158060.641657164
XMax: 1616163.828659956
YMax: 5216098.775141556
Spatial Reference: 2193
(2193)
LatestVCSWkid(0)
Full Extent:
XMin: 1383722.7247057701
YMin: 5112646.507356075
XMax: 1761283.8964947802
YMax: 5264782.2282941835
Spatial Reference: 2193
(2193)
LatestVCSWkid(0)
Units: esriMeters
Supported Image Format Types: PNG32,PNG24,PNG,JPG,DIB,TIFF,EMF,PS,PDF,GIF,SVG,SVGZ,BMP
Document Info:
Title: Layers
Author:
Comments: 10cm colour orthophotography of the area affected by the 22 February 2011 Christchurch earthquake.
Flown on 24 February 2011 by NZ Aerial Mapping for the Christchurch Response Centre (CRC).
Provided under Creative Commons Attribution 3.0 New Zealand license http://creativecommons.org/licenses/by/3.0/nz/
Subject: 10cm colour orthophotography of the area affected by the 22 February 2011 Christchurch earthquake.
Category:
Keywords: Aerial imagery,Christchurch,Earthquake,EQC,Aerial Photography,Imagery,NZAM,Photos,Christchurch
AntialiasingMode: None
TextAntialiasingMode: Force
Supports Dynamic Layers: true
MaxRecordCount: 1000
MaxImageHeight: 4096
MaxImageWidth: 4096
Supported Query Formats: JSON, geoJSON, PBF
Supports Query Data Elements: true
Min Scale: 5.91657527591555E8
Max Scale: 70.5310735
Supports Datum Transformation: true
Child Resources:
Info
Dynamic Layer
Supported Operations:
Export Map
Identify
QueryLegends
QueryDomains
Find
Return Updates