View In:
ArcGIS JavaScript
ArcGIS Online Map Viewer
ArcGIS Earth
ArcGIS Pro
Service Description: Basic background map showing built up areas and some land cover. Information taken from Land Information New Zealand's Topographic Base Maps and LandOnline.
Map Name: Layers
Legend
All Layers and Tables
Layers:
Description: The New Zealand Land Cover Database (LCDB) is a multi-temporal digital thematic map of land cover and land use. Land cover at each of four periods; summer 1996/97, summer 2001/02, summer 2008/09, and summer 20012/13, is both delineated and classified. The land cover classification evolved over the first three periods but compatibility has been maintained.
Copyright Text: Land Information New Zealand
Spatial Reference:
2193
(2193)
LatestVCSWkid(0)
Single Fused Map Cache: true
Tile Info:
- Height: 256
- Width: 256
- DPI: 96
-
Levels of Detail: 24
-
Level ID: 0
[ Start Tile, End Tile ]
- Resolution: 156543.03392800014
- Scale: 5.91657527591555E8
-
Level ID: 1
[ Start Tile, End Tile ]
- Resolution: 78271.51696399994
- Scale: 2.95828763795777E8
-
Level ID: 2
[ Start Tile, End Tile ]
- Resolution: 39135.75848200009
- Scale: 1.47914381897889E8
-
Level ID: 3
[ Start Tile, End Tile ]
- Resolution: 19567.87924099992
- Scale: 7.3957190948944E7
-
Level ID: 4
[ Start Tile, End Tile ]
- Resolution: 9783.93962049996
- Scale: 3.6978595474472E7
-
Level ID: 5
[ Start Tile, End Tile ]
- Resolution: 4891.96981024998
- Scale: 1.8489297737236E7
- Format: MIXED
- Compression Quality: 75.0
- Origin: X: -4020900.0
Y: 1.99981E7
- Spatial Reference: 2193
(2193)
LatestVCSWkid(0)
Storage Info:
- Storage Format: esriMapCacheStorageModeCompactV2
- Packet Size: 128
Initial Extent:
XMin: 1253774.402850133
YMin: 4969066.509994869
XMax: 1774308.4633704037
YMax: 5386399.910547388
Spatial Reference: 2193
(2193)
LatestVCSWkid(0)
Full Extent:
XMin: -1518449.1814625731
YMin: 3566337.1100926087
XMax: 4768063.391562574
YMax: 7262044.501507392
Spatial Reference: 2193
(2193)
LatestVCSWkid(0)
Units: esriMeters
Supported Image Format Types: PNG32,PNG24,PNG,JPG,DIB,TIFF,EMF,PS,PDF,GIF,SVG,SVGZ,BMP
Document Info:
Title: Layers
Author:
Comments: The New Zealand Land Cover Database (LCDB) is a multi-temporal digital thematic map of land cover and land use. Land cover at each of four periods; summer 1996/97, summer 2001/02, summer 2008/09, and summer 20012/13, is both delineated and classified. The land cover classification evolved over the first three periods but compatibility has been maintained.
Subject: Basemap designed for simple backgounds.
Category:
Keywords: Street,address,roads,rivers
AntialiasingMode: None
TextAntialiasingMode: Force
Supports Dynamic Layers: false
MaxRecordCount: 1000
MaxImageHeight: 4096
MaxImageWidth: 4096
Supported Query Formats: JSON, geoJSON, PBF
Supports Query Data Elements: true
Min Scale: 5.91657527591555E8
Max Scale: 70.5310735
Supports Datum Transformation: true
Child Resources:
Info
Supported Operations:
Export Map
Identify
QueryLegends
QueryDomains
Find
Return Updates
Generate KML