View In:
ArcGIS JavaScript
ArcGIS Online Map Viewer
ArcGIS Earth
ArcGIS Pro
Service Description: The PAN-NZ database contains information on legally protected areas (Crown Conservation Estate, Regional parks and covenents) for the three main islands of New Zealand (North, South, and Stewart) and all the inshore islands.
Map Name: Layers
Legend
All Layers and Tables
Layers:
Description: The PAN-NZ database contains information on legally protected areas (Crown Conservation Estate, Regional parks and covenents) for the three main islands of New Zealand (North, South, and Stewart) and all the inshore islands.
Copyright Text: Landcare Research
Spatial Reference:
2193
(2193)
VCSWkid(105792)
LatestVCSWkid(4440)
Single Fused Map Cache: true
Tile Info:
- Height: 256
- Width: 256
- DPI: 96
-
Levels of Detail: 24
-
Level ID: 0
[ Start Tile, End Tile ]
- Resolution: 156543.03392800014
- Scale: 5.91657527591555E8
-
Level ID: 1
[ Start Tile, End Tile ]
- Resolution: 78271.51696399994
- Scale: 2.95828763795777E8
-
Level ID: 2
[ Start Tile, End Tile ]
- Resolution: 39135.75848200009
- Scale: 1.47914381897889E8
-
Level ID: 3
[ Start Tile, End Tile ]
- Resolution: 19567.87924099992
- Scale: 7.3957190948944E7
-
Level ID: 4
[ Start Tile, End Tile ]
- Resolution: 9783.93962049996
- Scale: 3.6978595474472E7
-
Level ID: 5
[ Start Tile, End Tile ]
- Resolution: 4891.96981024998
- Scale: 1.8489297737236E7
- Format: MIXED
- Compression Quality: 75.0
- Origin: X: -4020900.0
Y: 1.99981E7
- Spatial Reference: 2193
(2193)
LatestVCSWkid(0)
Storage Info:
- Storage Format: esriMapCacheStorageModeCompactV2
- Packet Size: 128
Initial Extent:
XMin: 1173161.0326305488
YMin: 4916910.194551203
XMax: 1824106.9092114484
YMax: 5438800.070456006
Spatial Reference: 2193
(2193)
VCSWkid(105792)
LatestVCSWkid(4440)
Full Extent:
XMin: 1323813.1678
YMin: 5004784.6211
XMax: 1686930.0581999999
YMax: 5360238.9467
Spatial Reference: 2193
(2193)
VCSWkid(105792)
LatestVCSWkid(4440)
Units: esriMeters
Supported Image Format Types: PNG32,PNG24,PNG,JPG,DIB,TIFF,EMF,PS,PDF,GIF,SVG,SVGZ,BMP
Document Info:
Title: SOE_PANNZ.aprx
Author:
Comments: The PAN-NZ database contains information on legally protected areas (Crown Conservation Estate, Regional parks and covenents) for the three main islands of New Zealand (North, South, and Stewart) and all the inshore islands.
Subject: The PAN-NZ database contains information on legally protected areas (Crown Conservation Estate, Regional parks and covenents) for the three main islands of New Zealand (North, South, and Stewart) and all the inshore islands.
Category:
Keywords: PANNZ; SOE; Biodiversity
AntialiasingMode: None
TextAntialiasingMode: Force
Supports Dynamic Layers: false
MaxRecordCount: 1000
MaxImageHeight: 4096
MaxImageWidth: 4096
Supported Query Formats: JSON, geoJSON, PBF
Supports Query Data Elements: true
Min Scale: 5.91657527591555E8
Max Scale: 70.5310735
Supports Datum Transformation: true
Child Resources:
Info
Supported Operations:
Export Map
Identify
QueryLegends
QueryDomains
Find
Return Updates
Generate KML