View In:
ArcGIS JavaScript
ArcGIS Online Map Viewer
ArcGIS Earth
ArcGIS Pro
Service Description: Aerial imagery of the greater Canterbury area taken between 1960 and 1964. These images have been manually georeferenced and have a yet to be determined spatial accuracy. This imagery is not suitable for taking distance measurements from. Provided under Creative Commons Attribution 3.0 New Zealand license http://creativecommons.org/licenses/by/3.0/nz/
Map Name: Canterbury Imagery 1960 to 1964
Legend
All Layers and Tables
Layers:
Description: Historic Aerial Imagery of the greaterCanterbury area flown between 1940 and 1944. These images have been manually georeferenced and have a yet to be determined spatial accuracy. This imagery is not suitable for taking distance measurements from. Provided under Creative Commons Attribution 3.0 New Zealand license http://creativecommons.org/licenses/by/3.0/nz/
Copyright Text: Land Information New Zealand, Environment Canterbury
Spatial Reference:
2193
(2193)
LatestVCSWkid(0)
Single Fused Map Cache: true
Tile Info:
- Height: 256.0
- Width: 256.0
- DPI: 96.0
-
Levels of Detail: 24
-
Level ID: 0
[ Start Tile, End Tile ]
- Resolution: 156543.03392800014
- Scale: 5.91657527591555E8
-
Level ID: 1
[ Start Tile, End Tile ]
- Resolution: 78271.51696399994
- Scale: 2.95828763795777E8
-
Level ID: 2
[ Start Tile, End Tile ]
- Resolution: 39135.75848200009
- Scale: 1.47914381897889E8
-
Level ID: 3
[ Start Tile, End Tile ]
- Resolution: 19567.87924099992
- Scale: 7.3957190948944E7
-
Level ID: 4
[ Start Tile, End Tile ]
- Resolution: 9783.93962049996
- Scale: 3.6978595474472E7
-
Level ID: 5
[ Start Tile, End Tile ]
- Resolution: 4891.96981024998
- Scale: 1.8489297737236E7
- Format: MIXED
- Compression Quality: 75.0
- Origin: X: -4020900.0
Y: 1.99981E7
- Spatial Reference: 2193
(2193)
LatestVCSWkid(0)
Storage Info:
- Storage Format: esriMapCacheStorageModeCompactV2
- Packet Size: 128
Initial Extent:
XMin: 1400662.6353717255
YMin: 5054101.909950737
XMax: 1719085.6705390606
YMax: 5447222.679683642
Spatial Reference: 2193
(2193)
LatestVCSWkid(0)
Full Extent:
XMin: 1427601.2161074006
YMin: 5145946.33808
XMax: 1720414.9917926001
YMax: 5343053.59172
Spatial Reference: 2193
(2193)
LatestVCSWkid(0)
Units: esriMeters
Supported Image Format Types: PNG32,PNG24,PNG,JPG,DIB,TIFF,EMF,PS,PDF,GIF,SVG,SVGZ,BMP
Document Info:
Title: Canterbury Imagery 1960 to 1964
Author:
Comments: Historic Aerial Imagery of the greaterCanterbury area flown between 1940 and 1944. These images have been manually georeferenced and have a yet to be determined spatial accuracy. This imagery is not suitable for taking distance measurements from. Provided under Creative Commons Attribution 3.0 New Zealand license http://creativecommons.org/licenses/by/3.0/nz/
Subject: Aerial imagery of the greater Canterbury area taken between 1960 and 1964.
Category:
Keywords: Land Information New Zealand,Environment Canterbury,LINZ,ECAN,Historic,Aerial,Imagery,1960,1961,1962,1963,1964
AntialiasingMode: None
TextAntialiasingMode: Force
Supports Dynamic Layers: false
MaxRecordCount: 1000
MaxImageHeight: 4096
MaxImageWidth: 4096
Supported Query Formats: JSON, geoJSON, PBF
Supports Query Data Elements: true
Min Scale: 5.91657527591555E8
Max Scale: 70.5310735
Supports Datum Transformation: true
Child Resources:
Info
Supported Operations:
Export Map
Identify
QueryLegends
QueryDomains
Find
Return Updates
Generate KML