View In:
ArcGIS JavaScript
ArcGIS Online Map Viewer
ArcGIS Earth
ArcGIS Pro
Service Description: Aerial imagery of the greater Canterbury area taken between 1965 and 1969. These images have been manually georeferenced and have a yet to be determined spatial accuracy. This imagery is not suitable for taking distance measurements from. NZAM surveys are copyrighted and the LINZ surveys a available under creative commons https://creativecommons.org/licenses/by/3.0/nz/
Map Name: Canterbury Imagery 1965 to 1969
Legend
All Layers and Tables
Layers:
Description: Aerial imagery of the greater Canterbury area taken between 1965 and 1969. These images have been manually georeferenced and have a yet to be determined spatial accuracy. This imagery is not suitable for taking distance measurements from. NZAM Copyrighted.
Copyright Text: New Zealand Aerial Mapping, Environment Canterbury, Land Information New Zealand
Spatial Reference:
2193
(2193)
LatestVCSWkid(0)
Single Fused Map Cache: true
Tile Info:
- Height: 256.0
- Width: 256.0
- DPI: 96.0
-
Levels of Detail: 24
-
Level ID: 0
[ Start Tile, End Tile ]
- Resolution: 156543.03392800014
- Scale: 5.91657527591555E8
-
Level ID: 1
[ Start Tile, End Tile ]
- Resolution: 78271.51696399994
- Scale: 2.95828763795777E8
-
Level ID: 2
[ Start Tile, End Tile ]
- Resolution: 39135.75848200009
- Scale: 1.47914381897889E8
-
Level ID: 3
[ Start Tile, End Tile ]
- Resolution: 19567.87924099992
- Scale: 7.3957190948944E7
-
Level ID: 4
[ Start Tile, End Tile ]
- Resolution: 9783.93962049996
- Scale: 3.6978595474472E7
-
Level ID: 5
[ Start Tile, End Tile ]
- Resolution: 4891.96981024998
- Scale: 1.8489297737236E7
- Format: MIXED
- Compression Quality: 75.0
- Origin: X: -4020900.0
Y: 1.99981E7
- Spatial Reference: 2193
(2193)
LatestVCSWkid(0)
Storage Info:
- Storage Format: esriMapCacheStorageModeCompactV2
- Packet Size: 128
Initial Extent:
XMin: 1362182.7916049233
YMin: 4962538.197270605
XMax: 1746430.4932821065
YMax: 5436925.20941642
Spatial Reference: 2193
(2193)
LatestVCSWkid(0)
Full Extent:
XMin: 1216001.18839884
YMin: 4917147.100949048
XMax: 1795969.01500116
YMax: 5393398.053450952
Spatial Reference: 2193
(2193)
LatestVCSWkid(0)
Units: esriMeters
Supported Image Format Types: PNG32,PNG24,PNG,JPG,DIB,TIFF,EMF,PS,PDF,GIF,SVG,SVGZ,BMP
Document Info:
Title: Canterbury Imagery 1965 to 1969
Author:
Comments: Aerial imagery of the greater Canterbury area taken between 1965 and 1969. These images have been manually georeferenced and have a yet to be determined spatial accuracy. This imagery is not suitable for taking distance measurements from. NZAM Copyrighted.
Subject: Aerial imagery of the greater Canterbury area taken between 1965 and 1969.
Category:
Keywords: NZAM,LINZ,ECAN,Land Information New Zealand,New Zealand Aerial Mapping,Environment Canterbury,Aerial,Imagery,1965,1966,1967,1968,1969,Historic
AntialiasingMode: None
TextAntialiasingMode: Force
Supports Dynamic Layers: false
MaxRecordCount: 1000
MaxImageHeight: 4096
MaxImageWidth: 4096
Supported Query Formats: JSON, geoJSON, PBF
Supports Query Data Elements: true
Min Scale: 5.91657527591555E8
Max Scale: 70.5310735
Supports Datum Transformation: true
Child Resources:
Info
Supported Operations:
Export Map
Identify
QueryLegends
QueryDomains
Find
Return Updates
Generate KML