View In:
ArcGIS JavaScript
ArcGIS Online Map Viewer
ArcGIS Earth
ArcGIS Pro
Service Description: <div style='text-align:Left;font-size:12pt'><p><span>Level 2 Quality </span><span>colour orthophotography of the area affected by the </span><span>May/June 2021 Canterbury flooding</span><span>. </span></p><p><span /></p><p><span>This is level 2 quality meaning its horizontal accuracy has only been quality assured to a basic level, and it may contain some artifacts within the imagery. </span></p><p><span /></p><p><span>Flown on </span><span>2nd & 3rd June</span><span> 20</span><span>21</span><span> by </span><span>LandPro</span><span>. Provided under Creative Commons Attribution </span><span>4</span><span>.0 New Zealand license http</span><span>s</span><span>://creativecommons.org/licenses/by/</span><span>4</span><span>.0/nz/</span></p></div>
Map Name: FloodImagery_May2021
Legend
All Layers and Tables
Layers:
Description: <DIV STYLE="text-align:Left;font-size:12pt"><P><SPAN>Level 2 Quality </SPAN><SPAN>colour orthophotography of the area affected by the </SPAN><SPAN>May/June 2021 Canterbury flooding</SPAN><SPAN>. </SPAN></P><P><SPAN /></P><P><SPAN>This is level 2 quality meaning its horizontal accuracy has only been quality assured to a basic level, and it may contain some artifacts within the imagery. </SPAN></P><P><SPAN /></P><P><SPAN>Flown on </SPAN><SPAN>2nd & 3rd June</SPAN><SPAN> 20</SPAN><SPAN>21</SPAN><SPAN> by </SPAN><SPAN>LandPro</SPAN><SPAN>. Provided under Creative Commons Attribution </SPAN><SPAN>4</SPAN><SPAN>.0 New Zealand license http</SPAN><SPAN>s</SPAN><SPAN>://creativecommons.org/licenses/by/</SPAN><SPAN>4</SPAN><SPAN>.0/nz/</SPAN></P></DIV>
Copyright Text: Environment Canterbury Regional Council
Spatial Reference:
2193
(2193)
LatestVCSWkid(0)
Single Fused Map Cache: true
Tile Info:
- Height: 256.0
- Width: 256.0
- DPI: 96.0
-
Levels of Detail: 24
-
Level ID: 0
[ Start Tile, End Tile ]
- Resolution: 156543.03392800014
- Scale: 5.91657527591555E8
-
Level ID: 1
[ Start Tile, End Tile ]
- Resolution: 78271.51696399994
- Scale: 2.95828763795777E8
-
Level ID: 2
[ Start Tile, End Tile ]
- Resolution: 39135.75848200009
- Scale: 1.47914381897889E8
-
Level ID: 3
[ Start Tile, End Tile ]
- Resolution: 19567.87924099992
- Scale: 7.3957190948944E7
-
Level ID: 4
[ Start Tile, End Tile ]
- Resolution: 9783.93962049996
- Scale: 3.6978595474472E7
-
Level ID: 5
[ Start Tile, End Tile ]
- Resolution: 4891.96981024998
- Scale: 1.8489297737236E7
- Format: MIXED
- Compression Quality: 75.0
- Origin: X: -4020900.0
Y: 1.99981E7
- Spatial Reference: 2193
(2193)
LatestVCSWkid(0)
Storage Info:
- Storage Format: esriMapCacheStorageModeCompactV2
- Packet Size: 128
Initial Extent:
XMin: 1384819.739523682
YMin: 5029320.478780172
XMax: 1650631.3701758424
YMax: 5251917.335123853
Spatial Reference: 2193
(2193)
LatestVCSWkid(0)
Full Extent:
XMin: 1447913.7496999996
YMin: 5097851.9079
XMax: 1563783.0601000004
YMax: 5221823.662
Spatial Reference: 2193
(2193)
LatestVCSWkid(0)
Units: esriMeters
Supported Image Format Types: PNG32,PNG24,PNG,JPG,DIB,TIFF,EMF,PS,PDF,GIF,SVG,SVGZ,BMP
Document Info:
Title: Aerial Imagery of May/June 2021 Flood Affected Areas
Author:
Comments: <DIV STYLE="text-align:Left;font-size:12pt"><P><SPAN>Level 2 Quality </SPAN><SPAN>colour orthophotography of the area affected by the </SPAN><SPAN>May/June 2021 Canterbury flooding</SPAN><SPAN>. </SPAN></P><P><SPAN /></P><P><SPAN>This is level 2 quality meaning its horizontal accuracy has only been quality assured to a basic level, and it may contain some artifacts within the imagery. </SPAN></P><P><SPAN /></P><P><SPAN>Flown on </SPAN><SPAN>2nd & 3rd June</SPAN><SPAN> 20</SPAN><SPAN>21</SPAN><SPAN> by </SPAN><SPAN>LandPro</SPAN><SPAN>. Provided under Creative Commons Attribution </SPAN><SPAN>4</SPAN><SPAN>.0 New Zealand license http</SPAN><SPAN>s</SPAN><SPAN>://creativecommons.org/licenses/by/</SPAN><SPAN>4</SPAN><SPAN>.0/nz/</SPAN></P></DIV>
Subject: Aerial Imagery of May/June 2021 Flood Affected Areas. This is level 2 quality meaning its horizontal accuracy has only been quality assured to a basic level, and it may contain some artifacts within the imagery.
Category:
Keywords: Level 2 QualityAerial PhotographyCanterbury May Flood
AntialiasingMode: Fast
TextAntialiasingMode: Force
Supports Dynamic Layers: false
MaxRecordCount: 2000
MaxImageHeight: 4096
MaxImageWidth: 4096
Supported Query Formats: JSON, geoJSON, PBF
Supports Query Data Elements: true
Min Scale: 5.91657527591555E8
Max Scale: 70.5310735
Supports Datum Transformation: true
Child Resources:
Info
Supported Operations:
Export Map
Identify
QueryLegends
QueryDomains
Find
EstimateExportTilesSize
ExportTiles
Return Updates